BEGIN:VCALENDAR
VERSION:2.0
PRODID:-//Roncalli - ECPv6.8.3//NONSGML v1.0//EN
CALSCALE:GREGORIAN
METHOD:PUBLISH
X-ORIGINAL-URL:https://www.roncalli.id
X-WR-CALDESC:Events for Roncalli
REFRESH-INTERVAL;VALUE=DURATION:PT1H
X-Robots-Tag:noindex
X-PUBLISHED-TTL:PT1H
BEGIN:VTIMEZONE
TZID:Asia/Krasnoyarsk
BEGIN:STANDARD
TZOFFSETFROM:+0700
TZOFFSETTO:+0700
TZNAME:+07
DTSTART:20260101T000000
END:STANDARD
END:VTIMEZONE
BEGIN:VEVENT
DTSTART;VALUE=DATE:20261004
DTEND;VALUE=DATE:20261214
DTSTAMP:20260421T221155
CREATED:20241216T062045Z
LAST-MODIFIED:20241216T062045Z
UID:10000014-1791072000-1797206399@www.roncalli.id
SUMMARY:4 Okt - 13 Des 2026 | KURSUS MEDIOR II
DESCRIPTION:Kursus penyegaran iman dan spiritualitas\, khusus untuk para bruder\, suster\, frater dan imam berusia sekitar 35 tahun – 57 tahun.\nPendaftaran sampai dengan tanggal 20 September 2026.
URL:https://www.roncalli.id/agenda/4-okt-13-des-2026-kursus-medior-ii/
LOCATION:Rumah Khalwat Roncalli\, Jl. Diponegoro 90\, Salatiga\, Jawa Tengah\, 50714\, Indonesia
CATEGORIES:KURSUS
END:VEVENT
END:VCALENDAR