BEGIN:VCALENDAR
VERSION:2.0
PRODID:-//Roncalli - ECPv6.8.3//NONSGML v1.0//EN
CALSCALE:GREGORIAN
METHOD:PUBLISH
X-ORIGINAL-URL:https://www.roncalli.id
X-WR-CALDESC:Events for Roncalli
REFRESH-INTERVAL;VALUE=DURATION:PT1H
X-Robots-Tag:noindex
X-PUBLISHED-TTL:PT1H
BEGIN:VTIMEZONE
TZID:Asia/Krasnoyarsk
BEGIN:STANDARD
TZOFFSETFROM:+0700
TZOFFSETTO:+0700
TZNAME:+07
DTSTART:20260101T000000
END:STANDARD
END:VTIMEZONE
BEGIN:VEVENT
DTSTART;VALUE=DATE:20260906
DTEND;VALUE=DATE:20260928
DTSTAMP:20260421T174216
CREATED:20241216T061813Z
LAST-MODIFIED:20241216T062132Z
UID:10000013-1788652800-1790553599@www.roncalli.id
SUMMARY:6 Sept - 27 Sept 2026 | PERTEMUAN DAN RETRET SENIOR
DESCRIPTION:Untuk para suster\, bruder dan frater dan imam yang berusia 60 tahun ke atas dan sudah purna karya (juga masih bisa naik turun tangga).\nPendaftaran sampai dengan akhir Agustus 2026.
URL:https://www.roncalli.id/agenda/06-sept-27-sept-2026-pertemuan-dan-retret-senior/
LOCATION:Rumah Khalwat Roncalli\, Jl. Diponegoro 90\, Salatiga\, Jawa Tengah\, 50714\, Indonesia
CATEGORIES:KURSUS
END:VEVENT
END:VCALENDAR