BEGIN:VCALENDAR
VERSION:2.0
PRODID:-//Roncalli - ECPv6.8.3//NONSGML v1.0//EN
CALSCALE:GREGORIAN
METHOD:PUBLISH
X-WR-CALNAME:Roncalli
X-ORIGINAL-URL:https://www.roncalli.id
X-WR-CALDESC:Events for Roncalli
REFRESH-INTERVAL;VALUE=DURATION:PT1H
X-Robots-Tag:noindex
X-PUBLISHED-TTL:PT1H
BEGIN:VTIMEZONE
TZID:Asia/Krasnoyarsk
BEGIN:STANDARD
TZOFFSETFROM:+0700
TZOFFSETTO:+0700
TZNAME:+07
DTSTART:20250101T000000
END:STANDARD
END:VTIMEZONE
BEGIN:VEVENT
DTSTART;VALUE=DATE:20250727
DTEND;VALUE=DATE:20250915
DTSTAMP:20260421T205301
CREATED:20240210T173146Z
LAST-MODIFIED:20240210T173146Z
UID:10000008-1753574400-1757894399@www.roncalli.id
SUMMARY:27 Jul - 14 Sept 2025 | KURSUS PERSIAPAN KAUL KEKAL
DESCRIPTION:Untuk para suster\, bruder dan frater yang akan mengikrarkan kaul kekal. Pendaftaran sampai dengan 13 Juli 2025.
URL:https://www.roncalli.id/agenda/27-jul-14-sept-2025-kursus-persiapan-kaul-kekal/
LOCATION:Rumah Khalwat Roncalli\, Jl. Diponegoro 90\, Salatiga\, Jawa Tengah\, 50714\, Indonesia
CATEGORIES:KURSUS
END:VEVENT
END:VCALENDAR