BEGIN:VCALENDAR
VERSION:2.0
PRODID:-//Roncalli - ECPv6.8.3//NONSGML v1.0//EN
CALSCALE:GREGORIAN
METHOD:PUBLISH
X-ORIGINAL-URL:https://www.roncalli.id
X-WR-CALDESC:Events for Roncalli
REFRESH-INTERVAL;VALUE=DURATION:PT1H
X-Robots-Tag:noindex
X-PUBLISHED-TTL:PT1H
BEGIN:VTIMEZONE
TZID:Asia/Krasnoyarsk
BEGIN:STANDARD
TZOFFSETFROM:+0700
TZOFFSETTO:+0700
TZNAME:+07
DTSTART:20250101T000000
END:STANDARD
END:VTIMEZONE
BEGIN:VEVENT
DTSTART;VALUE=DATE:20250112
DTEND;VALUE=DATE:20250714
DTSTAMP:20260421T235439
CREATED:20240210T173037Z
LAST-MODIFIED:20241216T045127Z
UID:10000007-1736640000-1752451199@www.roncalli.id
SUMMARY:12 Jan - 13 Jul 2025 | KURSUS PEMBINA ROHANI (KPR) XVI
DESCRIPTION:Untuk suster\, bruder\, frater\, dan imam yang sudah berkarya dalam pendampingan rohani (di postulat\, novisiat\, komunitas\, rumah retret) atau dipersiapkan dalam karya tersebut. Sehubungan dengan pengolahan rohani yang sangat intensif\, maka peserta hendaknya memiliki cukup kematangan dan kestabilan psikis maupun fisik.\nUsia sekitar 35 – 50 tahun.\nPendaftaran sampai dengan akhir Desember 2024.
URL:https://www.roncalli.id/agenda/12-jan-13-jul-2025-kursus-pembina-rohani-kpr-xvi/
LOCATION:Rumah Khalwat Roncalli\, Jl. Diponegoro 90\, Salatiga\, Jawa Tengah\, 50714\, Indonesia
CATEGORIES:KURSUS
END:VEVENT
END:VCALENDAR