BEGIN:VCALENDAR
VERSION:2.0
PRODID:-//Roncalli - ECPv6.8.3//NONSGML v1.0//EN
CALSCALE:GREGORIAN
METHOD:PUBLISH
X-ORIGINAL-URL:https://www.roncalli.id
X-WR-CALDESC:Events for Roncalli
REFRESH-INTERVAL;VALUE=DURATION:PT1H
X-Robots-Tag:noindex
X-PUBLISHED-TTL:PT1H
BEGIN:VTIMEZONE
TZID:Asia/Krasnoyarsk
BEGIN:STANDARD
TZOFFSETFROM:+0700
TZOFFSETTO:+0700
TZNAME:+07
DTSTART:20260101T000000
END:STANDARD
END:VTIMEZONE
BEGIN:VEVENT
DTSTART;VALUE=DATE:20260712
DTEND;VALUE=DATE:20260831
DTSTAMP:20260420T180426
CREATED:20240210T172835Z
LAST-MODIFIED:20241216T061355Z
UID:10000005-1783814400-1788134399@www.roncalli.id
SUMMARY:12 Jul - 30 Agust 2026 | KURSUS PERSIAPAN KAUL KEKAL II
DESCRIPTION:Untuk para suster\, bruder dan frater yang akan mengikrarkan kaul kekal.\nPendaftaran sampai dengan akhir Juni 2026.
URL:https://www.roncalli.id/agenda/12-jul-30-agst-2024-kursus-persiapan-kaul-kekal-ii/
LOCATION:Rumah Khalwat Roncalli\, Jl. Diponegoro 90\, Salatiga\, Jawa Tengah\, 50714\, Indonesia
CATEGORIES:KURSUS
END:VEVENT
END:VCALENDAR